BEGIN:VCALENDAR
VERSION:2.0
PRODID:-//St Marks Versailles - ECPv6.15.20//NONSGML v1.0//EN
CALSCALE:GREGORIAN
METHOD:PUBLISH
X-ORIGINAL-URL:http://saintmarksversailles.net
X-WR-CALDESC:Events for St Marks Versailles
REFRESH-INTERVAL;VALUE=DURATION:PT1H
X-Robots-Tag:noindex
X-PUBLISHED-TTL:PT1H
BEGIN:VTIMEZONE
TZID:Europe/Paris
BEGIN:DAYLIGHT
TZOFFSETFROM:+0100
TZOFFSETTO:+0200
TZNAME:CEST
DTSTART:20210328T010000
END:DAYLIGHT
BEGIN:STANDARD
TZOFFSETFROM:+0200
TZOFFSETTO:+0100
TZNAME:CET
DTSTART:20211031T010000
END:STANDARD
BEGIN:DAYLIGHT
TZOFFSETFROM:+0100
TZOFFSETTO:+0200
TZNAME:CEST
DTSTART:20220327T010000
END:DAYLIGHT
BEGIN:STANDARD
TZOFFSETFROM:+0200
TZOFFSETTO:+0100
TZNAME:CET
DTSTART:20221030T010000
END:STANDARD
BEGIN:DAYLIGHT
TZOFFSETFROM:+0100
TZOFFSETTO:+0200
TZNAME:CEST
DTSTART:20230326T010000
END:DAYLIGHT
BEGIN:STANDARD
TZOFFSETFROM:+0200
TZOFFSETTO:+0100
TZNAME:CET
DTSTART:20231029T010000
END:STANDARD
END:VTIMEZONE
BEGIN:VEVENT
DTSTART;TZID=Europe/Paris:20220306T090000
DTEND;TZID=Europe/Paris:20220306T100000
DTSTAMP:20260424T143620
CREATED:20220227T182415Z
LAST-MODIFIED:20220227T182415Z
UID:3358-1646557200-1646560800@saintmarksversailles.net
SUMMARY:Holy Communion at St Mark's (BCP service)
DESCRIPTION:On-site only (no Zoom).
URL:http://saintmarksversailles.net/event/holy-communion-at-st-marks-bcp-service-2/
END:VEVENT
BEGIN:VEVENT
DTSTART;TZID=Europe/Paris:20220306T103000
DTEND;TZID=Europe/Paris:20220306T120000
DTSTAMP:20260424T143620
CREATED:20220227T182556Z
LAST-MODIFIED:20220227T182556Z
UID:3360-1646562600-1646568000@saintmarksversailles.net
SUMMARY:Morning Worship at St Mark's (and via Zoom)
DESCRIPTION:Zoom ID: 123 730 548\npassword: 147669\nhttps://zoom.us/j/123730548at
URL:http://saintmarksversailles.net/event/morning-worship-at-st-marks-and-via-zoom-7/
END:VEVENT
BEGIN:VEVENT
DTSTART;TZID=Europe/Paris:20220306T173000
DTEND;TZID=Europe/Paris:20220306T183000
DTSTAMP:20260424T143620
CREATED:20220227T182738Z
LAST-MODIFIED:20220227T182738Z
UID:3362-1646587800-1646591400@saintmarksversailles.net
SUMMARY:Holy Communion at St Paul's
DESCRIPTION:St Paul’s Chevry\, 3 Place de Chevry\,\nGif-sur-Yvette\, 91190 \nFace masks must be worn in church\, and social distancing rules apply
URL:http://saintmarksversailles.net/event/holy-communion-at-st-pauls-15/
END:VEVENT
END:VCALENDAR