BEGIN:VCALENDAR
VERSION:2.0
PRODID:-//St Marks Versailles - ECPv6.15.20//NONSGML v1.0//EN
CALSCALE:GREGORIAN
METHOD:PUBLISH
X-WR-CALNAME:St Marks Versailles
X-ORIGINAL-URL:http://saintmarksversailles.net
X-WR-CALDESC:Events for St Marks Versailles
REFRESH-INTERVAL;VALUE=DURATION:PT1H
X-Robots-Tag:noindex
X-PUBLISHED-TTL:PT1H
BEGIN:VTIMEZONE
TZID:Europe/Paris
BEGIN:DAYLIGHT
TZOFFSETFROM:+0100
TZOFFSETTO:+0200
TZNAME:CEST
DTSTART:20210328T010000
END:DAYLIGHT
BEGIN:STANDARD
TZOFFSETFROM:+0200
TZOFFSETTO:+0100
TZNAME:CET
DTSTART:20211031T010000
END:STANDARD
BEGIN:DAYLIGHT
TZOFFSETFROM:+0100
TZOFFSETTO:+0200
TZNAME:CEST
DTSTART:20220327T010000
END:DAYLIGHT
BEGIN:STANDARD
TZOFFSETFROM:+0200
TZOFFSETTO:+0100
TZNAME:CET
DTSTART:20221030T010000
END:STANDARD
BEGIN:DAYLIGHT
TZOFFSETFROM:+0100
TZOFFSETTO:+0200
TZNAME:CEST
DTSTART:20230326T010000
END:DAYLIGHT
BEGIN:STANDARD
TZOFFSETFROM:+0200
TZOFFSETTO:+0100
TZNAME:CET
DTSTART:20231029T010000
END:STANDARD
END:VTIMEZONE
BEGIN:VEVENT
DTSTART;TZID=Europe/Paris:20220313T103000
DTEND;TZID=Europe/Paris:20220313T120000
DTSTAMP:20260424T144046
CREATED:20220227T183342Z
LAST-MODIFIED:20220227T183414Z
UID:3367-1647167400-1647172800@saintmarksversailles.net
SUMMARY:Holy Communion at St Mark's (and via Zoom)
DESCRIPTION:Zoom ID: 123 730 548\npassword: 147669\nhttps://zoom.us/j/123730548
URL:http://saintmarksversailles.net/event/holy-communion-at-st-marks-and-via-zoom-9/
END:VEVENT
BEGIN:VEVENT
DTSTART;TZID=Europe/Paris:20220313T173000
DTEND;TZID=Europe/Paris:20220313T183000
DTSTAMP:20260424T144046
CREATED:20220227T183533Z
LAST-MODIFIED:20220227T183533Z
UID:3369-1647192600-1647196200@saintmarksversailles.net
SUMMARY:Evening Worship at St Paul's
DESCRIPTION:St Paul’s Chevry\, 3 Place de Chevry\,\nGif-sur-Yvette\, 91190 \nFace masks must be worn in church\, and social distancing rules apply
URL:http://saintmarksversailles.net/event/evening-worship-at-st-pauls-14/
END:VEVENT
END:VCALENDAR