BEGIN:VCALENDAR
VERSION:2.0
PRODID:-//St Marks Versailles - ECPv6.15.20//NONSGML v1.0//EN
CALSCALE:GREGORIAN
METHOD:PUBLISH
X-ORIGINAL-URL:http://saintmarksversailles.net
X-WR-CALDESC:Events for St Marks Versailles
REFRESH-INTERVAL;VALUE=DURATION:PT1H
X-Robots-Tag:noindex
X-PUBLISHED-TTL:PT1H
BEGIN:VTIMEZONE
TZID:Europe/Paris
BEGIN:DAYLIGHT
TZOFFSETFROM:+0100
TZOFFSETTO:+0200
TZNAME:CEST
DTSTART:20220327T010000
END:DAYLIGHT
BEGIN:STANDARD
TZOFFSETFROM:+0200
TZOFFSETTO:+0100
TZNAME:CET
DTSTART:20221030T010000
END:STANDARD
BEGIN:DAYLIGHT
TZOFFSETFROM:+0100
TZOFFSETTO:+0200
TZNAME:CEST
DTSTART:20230326T010000
END:DAYLIGHT
BEGIN:STANDARD
TZOFFSETFROM:+0200
TZOFFSETTO:+0100
TZNAME:CET
DTSTART:20231029T010000
END:STANDARD
BEGIN:DAYLIGHT
TZOFFSETFROM:+0100
TZOFFSETTO:+0200
TZNAME:CEST
DTSTART:20240331T010000
END:DAYLIGHT
BEGIN:STANDARD
TZOFFSETFROM:+0200
TZOFFSETTO:+0100
TZNAME:CET
DTSTART:20241027T010000
END:STANDARD
END:VTIMEZONE
BEGIN:VEVENT
DTSTART;TZID=Europe/Paris:20230319T103000
DTEND;TZID=Europe/Paris:20230319T120000
DTSTAMP:20260425T124408
CREATED:20230226T183611Z
LAST-MODIFIED:20230226T183611Z
UID:3988-1679221800-1679227200@saintmarksversailles.net
SUMMARY:Morning Worship at St Mark's (and online)
DESCRIPTION:Join Zoom Meeting: \nhttps://us02web.zoom.us/j/123730548?pwd=MnNycXByaHZtVndxb2VvVjc1eG1TUT09 \nMeeting ID: 123 730 548      Passcode: 147669 \nDial by your location    : \n+44 203 481 5237 United Kingdom   \n+33 1 7037 9729 France
URL:http://saintmarksversailles.net/event/morning-worship-at-st-marks-and-online-4/
END:VEVENT
BEGIN:VEVENT
DTSTART;TZID=Europe/Paris:20230319T173000
DTEND;TZID=Europe/Paris:20230319T183000
DTSTAMP:20260425T124408
CREATED:20230226T183335Z
LAST-MODIFIED:20230226T183335Z
UID:3982-1679247000-1679250600@saintmarksversailles.net
SUMMARY:Holy Communion at St Paul's
DESCRIPTION:St Paul’s Chevry\, 3 Place de Chevry\, Gif-sur-Yvette\, 91190
URL:http://saintmarksversailles.net/event/holy-communion-at-st-pauls-37/
END:VEVENT
END:VCALENDAR