BEGIN:VCALENDAR
VERSION:2.0
PRODID:-//St Marks Versailles - ECPv6.15.20//NONSGML v1.0//EN
CALSCALE:GREGORIAN
METHOD:PUBLISH
X-WR-CALNAME:St Marks Versailles
X-ORIGINAL-URL:http://saintmarksversailles.net
X-WR-CALDESC:Events for St Marks Versailles
REFRESH-INTERVAL;VALUE=DURATION:PT1H
X-Robots-Tag:noindex
X-PUBLISHED-TTL:PT1H
BEGIN:VTIMEZONE
TZID:Europe/Paris
BEGIN:DAYLIGHT
TZOFFSETFROM:+0100
TZOFFSETTO:+0200
TZNAME:CEST
DTSTART:20220327T010000
END:DAYLIGHT
BEGIN:STANDARD
TZOFFSETFROM:+0200
TZOFFSETTO:+0100
TZNAME:CET
DTSTART:20221030T010000
END:STANDARD
BEGIN:DAYLIGHT
TZOFFSETFROM:+0100
TZOFFSETTO:+0200
TZNAME:CEST
DTSTART:20230326T010000
END:DAYLIGHT
BEGIN:STANDARD
TZOFFSETFROM:+0200
TZOFFSETTO:+0100
TZNAME:CET
DTSTART:20231029T010000
END:STANDARD
BEGIN:DAYLIGHT
TZOFFSETFROM:+0100
TZOFFSETTO:+0200
TZNAME:CEST
DTSTART:20240331T010000
END:DAYLIGHT
BEGIN:STANDARD
TZOFFSETFROM:+0200
TZOFFSETTO:+0100
TZNAME:CET
DTSTART:20241027T010000
END:STANDARD
END:VTIMEZONE
BEGIN:VEVENT
DTSTART;VALUE=DATE:20230301
DTEND;VALUE=DATE:20230302
DTSTAMP:20260425T123610
CREATED:20230128T182851Z
LAST-MODIFIED:20230128T182851Z
UID:3940-1677628800-1677715199@saintmarksversailles.net
SUMMARY:No Youth Online during the school holidays
DESCRIPTION:
URL:http://saintmarksversailles.net/event/no-youth-online-during-the-school-holidays-2/
END:VEVENT
BEGIN:VEVENT
DTSTART;TZID=Europe/Paris:20230305T090000
DTEND;TZID=Europe/Paris:20230305T100000
DTSTAMP:20260425T123610
CREATED:20230226T182918Z
LAST-MODIFIED:20230226T182918Z
UID:3972-1678006800-1678010400@saintmarksversailles.net
SUMMARY:BCP HOLY COMMUNION SERVICE AT ST MARK’S
DESCRIPTION:Onsite only (no Zoom).
URL:http://saintmarksversailles.net/event/bcp-holy-communion-service-at-st-marks-2/
END:VEVENT
BEGIN:VEVENT
DTSTART;TZID=Europe/Paris:20230305T103000
DTEND;TZID=Europe/Paris:20230305T120000
DTSTAMP:20260425T123610
CREATED:20230226T183032Z
LAST-MODIFIED:20230226T183032Z
UID:3974-1678012200-1678017600@saintmarksversailles.net
SUMMARY:Morning Worship at St Mark's (and via Zoom)
DESCRIPTION:Join Zoom Meeting: \nhttps://us02web.zoom.us/j/123730548?pwd=MnNycXByaHZtVndxb2VvVjc1eG1TUT09 \nMeeting ID: 123 730 548      Passcode: 147669 \nDial by your location    : \n+44 203 481 5237 United Kingdom   \n+33 1 7037 9729 France
URL:http://saintmarksversailles.net/event/morning-worship-at-st-marks-and-via-zoom-28/
END:VEVENT
BEGIN:VEVENT
DTSTART;TZID=Europe/Paris:20230305T173000
DTEND;TZID=Europe/Paris:20230305T183000
DTSTAMP:20260425T123610
CREATED:20230226T183126Z
LAST-MODIFIED:20230226T183206Z
UID:3976-1678037400-1678041000@saintmarksversailles.net
SUMMARY:Holy Communion at St Paul's
DESCRIPTION:St Paul’s Chevry\, 3 Place de Chevry\, Gif-sur-Yvette\, 91190
URL:http://saintmarksversailles.net/event/holy-communion-at-st-pauls-36/
END:VEVENT
BEGIN:VEVENT
DTSTART;TZID=Europe/Paris:20230308T193000
DTEND;TZID=Europe/Paris:20230308T203000
DTSTAMP:20260425T123610
CREATED:20230326T171728Z
LAST-MODIFIED:20230326T171728Z
UID:4047-1678303800-1678307400@saintmarksversailles.net
SUMMARY:Youth Online (all ages)
DESCRIPTION:Have fun learning about the Bible\, with some games. \nWe’re looking at different short verses from the Bible. \nFor the Zoom link\, contact us at : \nsmy@stmarksversailles.org
URL:http://saintmarksversailles.net/event/youth-online-all-ages-33/
END:VEVENT
BEGIN:VEVENT
DTSTART;TZID=Europe/Paris:20230312T103000
DTEND;TZID=Europe/Paris:20230312T120000
DTSTAMP:20260425T123610
CREATED:20230226T183524Z
LAST-MODIFIED:20230226T183524Z
UID:3986-1678617000-1678622400@saintmarksversailles.net
SUMMARY:Holy Communion at St Mark's (and online)
DESCRIPTION:Join Zoom Meeting: \nhttps://us02web.zoom.us/j/123730548?pwd=MnNycXByaHZtVndxb2VvVjc1eG1TUT09 \nMeeting ID: 123 730 548      Passcode: 147669 \nDial by your location    : \n+44 203 481 5237 United Kingdom   \n+33 1 7037 9729 France
URL:http://saintmarksversailles.net/event/holy-communion-at-st-marks-and-online-3/
END:VEVENT
BEGIN:VEVENT
DTSTART;TZID=Europe/Paris:20230312T173000
DTEND;TZID=Europe/Paris:20230312T183000
DTSTAMP:20260425T123610
CREATED:20230226T183247Z
LAST-MODIFIED:20230226T183247Z
UID:3979-1678642200-1678645800@saintmarksversailles.net
SUMMARY:Evening Worship at St Paul's
DESCRIPTION:St Paul’s Chevry\, 3 Place de Chevry\, Gif-sur-Yvette\, 91190
URL:http://saintmarksversailles.net/event/evening-worship-at-st-pauls-36/
END:VEVENT
BEGIN:VEVENT
DTSTART;TZID=Europe/Paris:20230315T193000
DTEND;TZID=Europe/Paris:20230315T203000
DTSTAMP:20260425T123610
CREATED:20230326T171806Z
LAST-MODIFIED:20230326T171806Z
UID:4049-1678908600-1678912200@saintmarksversailles.net
SUMMARY:Youth Online (all ages)
DESCRIPTION:Have fun learning about the Bible\, with some games. \nWe’re looking at different short verses from the Bible. \nFor the Zoom link\, contact us at : \nsmy@stmarksversailles.org
URL:http://saintmarksversailles.net/event/youth-online-all-ages-34/
END:VEVENT
BEGIN:VEVENT
DTSTART;TZID=Europe/Paris:20230319T103000
DTEND;TZID=Europe/Paris:20230319T120000
DTSTAMP:20260425T123610
CREATED:20230226T183611Z
LAST-MODIFIED:20230226T183611Z
UID:3988-1679221800-1679227200@saintmarksversailles.net
SUMMARY:Morning Worship at St Mark's (and online)
DESCRIPTION:Join Zoom Meeting: \nhttps://us02web.zoom.us/j/123730548?pwd=MnNycXByaHZtVndxb2VvVjc1eG1TUT09 \nMeeting ID: 123 730 548      Passcode: 147669 \nDial by your location    : \n+44 203 481 5237 United Kingdom   \n+33 1 7037 9729 France
URL:http://saintmarksversailles.net/event/morning-worship-at-st-marks-and-online-4/
END:VEVENT
BEGIN:VEVENT
DTSTART;TZID=Europe/Paris:20230319T173000
DTEND;TZID=Europe/Paris:20230319T183000
DTSTAMP:20260425T123610
CREATED:20230226T183335Z
LAST-MODIFIED:20230226T183335Z
UID:3982-1679247000-1679250600@saintmarksversailles.net
SUMMARY:Holy Communion at St Paul's
DESCRIPTION:St Paul’s Chevry\, 3 Place de Chevry\, Gif-sur-Yvette\, 91190
URL:http://saintmarksversailles.net/event/holy-communion-at-st-pauls-37/
END:VEVENT
BEGIN:VEVENT
DTSTART;TZID=Europe/Paris:20230322T193000
DTEND;TZID=Europe/Paris:20230322T203000
DTSTAMP:20260425T123610
CREATED:20230326T171849Z
LAST-MODIFIED:20230326T171849Z
UID:4051-1679513400-1679517000@saintmarksversailles.net
SUMMARY:Youth Online (all ages)
DESCRIPTION:Have fun learning about the Bible\, with some games. \nWe’re looking at different short verses from the Bible. \nFor the Zoom link\, contact us at : \nsmy@stmarksversailles.org
URL:http://saintmarksversailles.net/event/youth-online-all-ages-35/
END:VEVENT
BEGIN:VEVENT
DTSTART;TZID=Europe/Paris:20230326T103000
DTEND;TZID=Europe/Paris:20230326T120000
DTSTAMP:20260425T123610
CREATED:20230226T183658Z
LAST-MODIFIED:20230326T172215Z
UID:3990-1679826600-1679832000@saintmarksversailles.net
SUMMARY:Morning Worship at St Mark's (and online)
DESCRIPTION:Join Zoom Meeting: \nhttps://us02web.zoom.us/j/123730548?pwd=MnNycXByaHZtVndxb2VvVjc1eG1TUT09 \nMeeting ID: 123 730 548      Passcode: 147669 \nDial by your location    : \n+44 203 481 5237 United Kingdom   \n+33 1 7037 9729 France
URL:http://saintmarksversailles.net/event/holy-communion-at-st-marks-and-online-4/
END:VEVENT
BEGIN:VEVENT
DTSTART;TZID=Europe/Paris:20230326T173000
DTEND;TZID=Europe/Paris:20230326T183000
DTSTAMP:20260425T123610
CREATED:20230226T183410Z
LAST-MODIFIED:20230226T183410Z
UID:3984-1679851800-1679855400@saintmarksversailles.net
SUMMARY:Evening Worship at St Paul's
DESCRIPTION:St Paul’s Chevry\, 3 Place de Chevry\, Gif-sur-Yvette\, 91190
URL:http://saintmarksversailles.net/event/evening-worship-at-st-pauls-37/
END:VEVENT
BEGIN:VEVENT
DTSTART;TZID=Europe/Paris:20230329T193000
DTEND;TZID=Europe/Paris:20230329T203000
DTSTAMP:20260425T123610
CREATED:20230326T171542Z
LAST-MODIFIED:20230326T171542Z
UID:4043-1680118200-1680121800@saintmarksversailles.net
SUMMARY:Youth Online (all ages)
DESCRIPTION:Have fun learning about the Bible\, with some games. \nWe’re looking at different short verses from the Bible. \nFor the Zoom link\, contact us at : \nsmy@stmarksversailles.org
URL:http://saintmarksversailles.net/event/youth-online-all-ages-31/
END:VEVENT
END:VCALENDAR