BEGIN:VCALENDAR
VERSION:2.0
PRODID:-//St Marks Versailles - ECPv6.15.20//NONSGML v1.0//EN
CALSCALE:GREGORIAN
METHOD:PUBLISH
X-WR-CALNAME:St Marks Versailles
X-ORIGINAL-URL:http://saintmarksversailles.net
X-WR-CALDESC:Events for St Marks Versailles
REFRESH-INTERVAL;VALUE=DURATION:PT1H
X-Robots-Tag:noindex
X-PUBLISHED-TTL:PT1H
BEGIN:VTIMEZONE
TZID:Europe/Paris
BEGIN:DAYLIGHT
TZOFFSETFROM:+0100
TZOFFSETTO:+0200
TZNAME:CEST
DTSTART:20230326T010000
END:DAYLIGHT
BEGIN:STANDARD
TZOFFSETFROM:+0200
TZOFFSETTO:+0100
TZNAME:CET
DTSTART:20231029T010000
END:STANDARD
BEGIN:DAYLIGHT
TZOFFSETFROM:+0100
TZOFFSETTO:+0200
TZNAME:CEST
DTSTART:20240331T010000
END:DAYLIGHT
BEGIN:STANDARD
TZOFFSETFROM:+0200
TZOFFSETTO:+0100
TZNAME:CET
DTSTART:20241027T010000
END:STANDARD
BEGIN:DAYLIGHT
TZOFFSETFROM:+0100
TZOFFSETTO:+0200
TZNAME:CEST
DTSTART:20250330T010000
END:DAYLIGHT
BEGIN:STANDARD
TZOFFSETFROM:+0200
TZOFFSETTO:+0100
TZNAME:CET
DTSTART:20251026T010000
END:STANDARD
END:VTIMEZONE
BEGIN:VEVENT
DTSTART;TZID=Europe/Paris:20240707T090000
DTEND;TZID=Europe/Paris:20240707T100000
DTSTAMP:20260425T140813
CREATED:20240630T184246Z
LAST-MODIFIED:20240630T184246Z
UID:4521-1720342800-1720346400@saintmarksversailles.net
SUMMARY:BCP Communion Service at St Mark’s
DESCRIPTION:On-site only in the chapel. No Zoom.
URL:http://saintmarksversailles.net/event/bcp-communion-service-at-st-marks-5/
END:VEVENT
BEGIN:VEVENT
DTSTART;TZID=Europe/Paris:20240707T103000
DTEND;TZID=Europe/Paris:20240707T120000
DTSTAMP:20260425T140813
CREATED:20240630T184548Z
LAST-MODIFIED:20240630T184548Z
UID:4523-1720348200-1720353600@saintmarksversailles.net
SUMMARY:Morning Worship at St Mark's (and via Zoom)
DESCRIPTION:Join Zoom Meeting:     https://us02web.zoom.us/j/123730548?pwd=MnNycXByaHZtVndxb2VvVjc1eG1TUT09 \nMeeting ID: 123 730 548      Passcode: 147669 \nDial by your location    : \nUnited Kingdom:    +44 203 481 5237 \nFrance:     +33 1 7037 9729
URL:http://saintmarksversailles.net/event/morning-worship-at-st-marks-and-via-zoom-56/
END:VEVENT
BEGIN:VEVENT
DTSTART;TZID=Europe/Paris:20240707T173000
DTEND;TZID=Europe/Paris:20240707T183000
DTSTAMP:20260425T140813
CREATED:20240630T184726Z
LAST-MODIFIED:20240630T184726Z
UID:4525-1720373400-1720377000@saintmarksversailles.net
SUMMARY:Holy Communion at St Paul's
DESCRIPTION:St Paul’s\, Chevry \n3 Place de Chevry\, Gif-sur-Yvette\, 91190
URL:http://saintmarksversailles.net/event/holy-communion-at-st-pauls-61/
END:VEVENT
BEGIN:VEVENT
DTSTART;TZID=Europe/Paris:20240714T103000
DTEND;TZID=Europe/Paris:20240714T120000
DTSTAMP:20260425T140813
CREATED:20240630T184916Z
LAST-MODIFIED:20240630T185239Z
UID:4527-1720953000-1720958400@saintmarksversailles.net
SUMMARY:Holy Communion at St Mark's (and via Zoom)
DESCRIPTION:Join Zoom Meeting:     https://us02web.zoom.us/j/123730548?pwd=MnNycXByaHZtVndxb2VvVjc1eG1TUT09 \nMeeting ID: 123 730 548      Passcode: 147669 \nDial by your location    : \nUnited Kingdom:    +44 203 481 5237 \nFrance:     +33 1 7037 9729
URL:http://saintmarksversailles.net/event/holy-communion-at-st-marks-and-via-zoom-40/
END:VEVENT
BEGIN:VEVENT
DTSTART;TZID=Europe/Paris:20240714T173000
DTEND;TZID=Europe/Paris:20240714T183000
DTSTAMP:20260425T140813
CREATED:20240630T185008Z
LAST-MODIFIED:20240630T185008Z
UID:4529-1720978200-1720981800@saintmarksversailles.net
SUMMARY:Evening Worship at St Paul's
DESCRIPTION:St Paul’s\, Chevry \n3 Place de Chevry\, Gif-sur-Yvette\, 91190
URL:http://saintmarksversailles.net/event/evening-worship-at-st-pauls-69/
END:VEVENT
BEGIN:VEVENT
DTSTART;TZID=Europe/Paris:20240721T103000
DTEND;TZID=Europe/Paris:20240721T120000
DTSTAMP:20260425T140813
CREATED:20240630T185116Z
LAST-MODIFIED:20240630T185156Z
UID:4531-1721557800-1721563200@saintmarksversailles.net
SUMMARY:Morning Worship at St Mark's (and via Zoom)
DESCRIPTION:Join Zoom Meeting:     https://us02web.zoom.us/j/123730548?pwd=MnNycXByaHZtVndxb2VvVjc1eG1TUT09 \nMeeting ID: 123 730 548      Passcode: 147669 \nDial by your location    : \nUnited Kingdom:    +44 203 481 5237 \nFrance:     +33 1 7037 9729
URL:http://saintmarksversailles.net/event/morning-worship-at-st-marks-and-via-zoom-57/
END:VEVENT
BEGIN:VEVENT
DTSTART;TZID=Europe/Paris:20240721T173000
DTEND;TZID=Europe/Paris:20240721T183000
DTSTAMP:20260425T140813
CREATED:20240630T185333Z
LAST-MODIFIED:20240630T185333Z
UID:4533-1721583000-1721586600@saintmarksversailles.net
SUMMARY:Holy Communion at St Paul's
DESCRIPTION:St Paul’s\, Chevry \n3 Place de Chevry\, Gif-sur-Yvette\, 91190
URL:http://saintmarksversailles.net/event/holy-communion-at-st-pauls-62/
END:VEVENT
BEGIN:VEVENT
DTSTART;TZID=Europe/Paris:20240728T103000
DTEND;TZID=Europe/Paris:20240728T120000
DTSTAMP:20260425T140813
CREATED:20240630T185500Z
LAST-MODIFIED:20240630T185500Z
UID:4535-1722162600-1722168000@saintmarksversailles.net
SUMMARY:Holy Communion at St Mark's (and via Zoom)
DESCRIPTION:Join Zoom Meeting:     https://us02web.zoom.us/j/123730548?pwd=MnNycXByaHZtVndxb2VvVjc1eG1TUT09 \nMeeting ID: 123 730 548      Passcode: 147669 \nDial by your location    : \nUnited Kingdom:    +44 203 481 5237 \nFrance:     +33 1 7037 9729
URL:http://saintmarksversailles.net/event/holy-communion-at-st-marks-and-via-zoom-41/
END:VEVENT
BEGIN:VEVENT
DTSTART;TZID=Europe/Paris:20240728T173000
DTEND;TZID=Europe/Paris:20240728T183000
DTSTAMP:20260425T140813
CREATED:20240630T185542Z
LAST-MODIFIED:20240630T185542Z
UID:4537-1722187800-1722191400@saintmarksversailles.net
SUMMARY:Evening Worship at St Paul's
DESCRIPTION:St Paul’s\, Chevry \n3 Place de Chevry\, Gif-sur-Yvette\, 91190
URL:http://saintmarksversailles.net/event/evening-worship-at-st-pauls-70/
END:VEVENT
END:VCALENDAR